<?xml version="1.0"?>
<Capabilities xmlns="http://www.opengis.net/wmts/1.0" xmlns:ows="http://www.opengis.net/ows/1.1" xmlns:xlink="http://www.w3.org/1999/xlink" xmlns:xsi="http://www.w3.org/2001/XMLSchema-instance" xmlns:gml="http://www.opengis.net/gml" xsi:schemaLocation="http://www.opengis.net/wmts/1.0 http://schemas.opengis.net/wmts/1.0/wmtsGetCapabilities_response.xsd" version="1.0.0">
  <ows:ServiceIdentification>
    <ows:Title>WMTS BB-BE DGM 1m</ows:Title>
    <ows:Abstract>Dieser Web Map Tile Service stellt das Digitale Geländemodell (Laserscan) mit der Bodenauflösung von 1m als farbige Höhenschichten mit Schummerung vom Gebiet Brandenburg mit Berlin zur Verfügung.</ows:Abstract>
    <ows:Keywords>
        <ows:Keyword>AdV</ows:Keyword>
        <ows:Keyword>AdV-OWS-Basisprofil</ows:Keyword>
        <ows:Keyword>AdVMIS</ows:Keyword>
        <ows:Keyword>BB-BE</ows:Keyword>
        <ows:Keyword>Berlin</ows:Keyword>
        <ows:Keyword>Brandenburg</ows:Keyword>
        <ows:Keyword>DGM</ows:Keyword>
        <ows:Keyword>digitales Geländemodell</ows:Keyword>
        <ows:Keyword>GDI</ows:Keyword>
        <ows:Keyword>Geobasisdaten</ows:Keyword>
        <ows:Keyword>Luftbild</ows:Keyword>
        <ows:Keyword>Navigation</ows:Keyword>
        <ows:Keyword>opendata</ows:Keyword>
        <ows:Keyword>Vermessung</ows:Keyword>
        <ows:Keyword>WMTS</ows:Keyword>
        <ows:Keyword>WMTS_BB-BE_DGM_1m</ows:Keyword>
    </ows:Keywords>
    <ows:ServiceType>OGC WMTS</ows:ServiceType>
    <ows:ServiceTypeVersion>1.0.0</ows:ServiceTypeVersion>
    <ows:Fees>kostenfrei, unter Beachtung der Lizenzbedingungen</ows:Fees>
    <ows:AccessConstraints>Die Daten können gemäß der „Datenlizenz Deutschland - Namensnennung - Version 2.0“ (https://www.govdata.de/dl-de/by-2-0) genutzt werden. Namensnennung: "GeoBasis-DE/LGB“, Beispiel: „© GeoBasis-DE/LGB, dl-de/by-2-0, (Daten geändert)“, (Klammer = optional) Hinweis: bei Kartendarstellungen außerhalb des Landes Brandenburg sind die Lizenzbedingungen der betreffenden Länder zu beachten.</ows:AccessConstraints>
  </ows:ServiceIdentification>
  <ows:ServiceProvider>
    <ows:ProviderName>Landesvermessung und Geobasisinformation Brandenburg</ows:ProviderName>
    <ows:ProviderSite xlink:href="https://.geobasis-bb.de"/>
    <ows:ServiceContact>
      <ows:IndividualName>Kundenservice</ows:IndividualName>
      <ows:PositionName>Kundenservice</ows:PositionName>
      <ows:ContactInfo>
        <ows:Phone>
          <ows:Voice>+49 331 8844-123</ows:Voice>
          <ows:Facsimile>+49 331 8844-16123</ows:Facsimile>
        </ows:Phone>
        <ows:Address>
          <ows:DeliveryPoint>Heinrich-Mann-Allee 104 B</ows:DeliveryPoint>
          <ows:City>Potsdam</ows:City>
          <ows:AdministrativeArea></ows:AdministrativeArea>
          <ows:PostalCode>14473</ows:PostalCode>
          <ows:Country>Germany</ows:Country>
          <ows:ElectronicMailAddress>kundenservice@geobasis-bb.de</ows:ElectronicMailAddress>
        </ows:Address>
      </ows:ContactInfo>
    </ows:ServiceContact>
  </ows:ServiceProvider>
  <ows:OperationsMetadata>
    <ows:Operation name="GetCapabilities">
      <ows:DCP>
        <ows:HTTP>
          <ows:Get xlink:href="https://isk.geobasis-bb.de/mapproxy/dgm_wmts/wmts?">
            <ows:Constraint name="GetEncoding">
              <ows:AllowedValues>
                <ows:Value>RESTful</ows:Value>
              </ows:AllowedValues>
            </ows:Constraint>
          </ows:Get>
        </ows:HTTP>
      </ows:DCP>
    </ows:Operation>
    <ows:Operation name="GetTile">
      <ows:DCP>
        <ows:HTTP>
          <ows:Get xlink:href="https://isk.geobasis-bb.de/mapproxy/dgm_wmts/wmts?">
            <ows:Constraint name="GetEncoding">
              <ows:AllowedValues>
                <ows:Value>RESTful</ows:Value>
              </ows:AllowedValues>
            </ows:Constraint>
          </ows:Get>
        </ows:HTTP>
      </ows:DCP>
    </ows:Operation>
    <ows:Operation name="GetFeatureInfo">
      <ows:DCP>
        <ows:HTTP>
          <ows:Get xlink:href="https://isk.geobasis-bb.de/mapproxy/dgm_wmts/wmts?">
            <ows:Constraint name="GetEncoding">
              <ows:AllowedValues>
                <ows:Value>RESTful</ows:Value>
              </ows:AllowedValues>
            </ows:Constraint>
          </ows:Get>
        </ows:HTTP>
      </ows:DCP>
    </ows:Operation>
  </ows:OperationsMetadata>
  <Contents>
    <Layer>
      <ows:Title>DGM 1m BB-BE (WMTS)</ows:Title>
      <ows:Abstract></ows:Abstract>
      <ows:WGS84BoundingBox>
        <ows:LowerCorner>11.152768795679583 51.2635170116316</ows:LowerCorner>
        <ows:UpperCorner>14.839047506489834 53.60992943933036</ows:UpperCorner>
      </ows:WGS84BoundingBox>
      <ows:Identifier>dgm</ows:Identifier>
      <Style isDefault="true">
        <ows:Identifier>default</ows:Identifier>
      </Style>
      <Format>image/png</Format>
      <TileMatrixSetLink>
        <TileMatrixSet>grid_25833</TileMatrixSet>
      </TileMatrixSetLink>
      <ResourceURL format="image/png" resourceType="tile"
        template="https://isk.geobasis-bb.de/mapproxy/dgm_wmts/wmts/1.0.0/dgm-{TileMatrixSet}/{TileMatrix}-{TileCol}-{TileRow}/tile"/>
    </Layer>
    <TileMatrixSet>
      <ows:Identifier>grid_25833</ows:Identifier>
      <ows:SupportedCRS>urn:ogc:def:crs:EPSG:25833</ows:SupportedCRS>
      <TileMatrix>
        <ows:Identifier>00</ows:Identifier>
        <ScaleDenominator>8735660.375448713</ScaleDenominator>
        <TopLeftCorner>245149.0 5940137.0</TopLeftCorner>
        <TileWidth>512</TileWidth>
        <TileHeight>512</TileHeight>
        <MatrixWidth>1</MatrixWidth>
        <MatrixHeight>1</MatrixHeight>
      </TileMatrix>
      <TileMatrix>
        <ows:Identifier>01</ows:Identifier>
        <ScaleDenominator>4367830.187724357</ScaleDenominator>
        <TopLeftCorner>245149.0 5940137.0</TopLeftCorner>
        <TileWidth>512</TileWidth>
        <TileHeight>512</TileHeight>
        <MatrixWidth>1</MatrixWidth>
        <MatrixHeight>1</MatrixHeight>
      </TileMatrix>
      <TileMatrix>
        <ows:Identifier>02</ows:Identifier>
        <ScaleDenominator>2183915.0938621783</ScaleDenominator>
        <TopLeftCorner>245149.0 5940137.0</TopLeftCorner>
        <TileWidth>512</TileWidth>
        <TileHeight>512</TileHeight>
        <MatrixWidth>1</MatrixWidth>
        <MatrixHeight>1</MatrixHeight>
      </TileMatrix>
      <TileMatrix>
        <ows:Identifier>03</ows:Identifier>
        <ScaleDenominator>1091957.5469310891</ScaleDenominator>
        <TopLeftCorner>245149.0 5940137.0</TopLeftCorner>
        <TileWidth>512</TileWidth>
        <TileHeight>512</TileHeight>
        <MatrixWidth>2</MatrixWidth>
        <MatrixHeight>2</MatrixHeight>
      </TileMatrix>
      <TileMatrix>
        <ows:Identifier>04</ows:Identifier>
        <ScaleDenominator>545978.7734655463</ScaleDenominator>
        <TopLeftCorner>245149.0 5940137.0</TopLeftCorner>
        <TileWidth>512</TileWidth>
        <TileHeight>512</TileHeight>
        <MatrixWidth>4</MatrixWidth>
        <MatrixHeight>4</MatrixHeight>
      </TileMatrix>
      <TileMatrix>
        <ows:Identifier>05</ows:Identifier>
        <ScaleDenominator>272989.3867327725</ScaleDenominator>
        <TopLeftCorner>245149.0 5940137.0</TopLeftCorner>
        <TileWidth>512</TileWidth>
        <TileHeight>512</TileHeight>
        <MatrixWidth>7</MatrixWidth>
        <MatrixHeight>7</MatrixHeight>
      </TileMatrix>
      <TileMatrix>
        <ows:Identifier>06</ows:Identifier>
        <ScaleDenominator>136494.6933663861</ScaleDenominator>
        <TopLeftCorner>245149.0 5940137.0</TopLeftCorner>
        <TileWidth>512</TileWidth>
        <TileHeight>512</TileHeight>
        <MatrixWidth>13</MatrixWidth>
        <MatrixHeight>14</MatrixHeight>
      </TileMatrix>
      <TileMatrix>
        <ows:Identifier>07</ows:Identifier>
        <ScaleDenominator>100000</ScaleDenominator>
        <TopLeftCorner>245149.0 5940137.0</TopLeftCorner>
        <TileWidth>512</TileWidth>
        <TileHeight>512</TileHeight>
        <MatrixWidth>17</MatrixWidth>
        <MatrixHeight>18</MatrixHeight>
      </TileMatrix>
      <TileMatrix>
        <ows:Identifier>08</ows:Identifier>
        <ScaleDenominator>68247.3466831932</ScaleDenominator>
        <TopLeftCorner>245149.0 5940137.0</TopLeftCorner>
        <TileWidth>512</TileWidth>
        <TileHeight>512</TileHeight>
        <MatrixWidth>25</MatrixWidth>
        <MatrixHeight>27</MatrixHeight>
      </TileMatrix>
      <TileMatrix>
        <ows:Identifier>09</ows:Identifier>
        <ScaleDenominator>50000</ScaleDenominator>
        <TopLeftCorner>245149.0 5940137.0</TopLeftCorner>
        <TileWidth>512</TileWidth>
        <TileHeight>512</TileHeight>
        <MatrixWidth>34</MatrixWidth>
        <MatrixHeight>36</MatrixHeight>
      </TileMatrix>
      <TileMatrix>
        <ows:Identifier>10</ows:Identifier>
        <ScaleDenominator>34123.6733415965</ScaleDenominator>
        <TopLeftCorner>245149.0 5940137.0</TopLeftCorner>
        <TileWidth>512</TileWidth>
        <TileHeight>512</TileHeight>
        <MatrixWidth>50</MatrixWidth>
        <MatrixHeight>53</MatrixHeight>
      </TileMatrix>
      <TileMatrix>
        <ows:Identifier>11</ows:Identifier>
        <ScaleDenominator>25000</ScaleDenominator>
        <TopLeftCorner>245149.0 5940137.0</TopLeftCorner>
        <TileWidth>512</TileWidth>
        <TileHeight>512</TileHeight>
        <MatrixWidth>68</MatrixWidth>
        <MatrixHeight>72</MatrixHeight>
      </TileMatrix>
      <TileMatrix>
        <ows:Identifier>12</ows:Identifier>
        <ScaleDenominator>17061.8366707983</ScaleDenominator>
        <TopLeftCorner>245149.0 5940137.0</TopLeftCorner>
        <TileWidth>512</TileWidth>
        <TileHeight>512</TileHeight>
        <MatrixWidth>100</MatrixWidth>
        <MatrixHeight>105</MatrixHeight>
      </TileMatrix>
      <TileMatrix>
        <ows:Identifier>13</ows:Identifier>
        <ScaleDenominator>10000</ScaleDenominator>
        <TopLeftCorner>245149.0 5940137.0</TopLeftCorner>
        <TileWidth>512</TileWidth>
        <TileHeight>512</TileHeight>
        <MatrixWidth>170</MatrixWidth>
        <MatrixHeight>178</MatrixHeight>
      </TileMatrix>
      <TileMatrix>
        <ows:Identifier>14</ows:Identifier>
        <ScaleDenominator>8530.9183353991</ScaleDenominator>
        <TopLeftCorner>245149.0 5940137.0</TopLeftCorner>
        <TileWidth>512</TileWidth>
        <TileHeight>512</TileHeight>
        <MatrixWidth>200</MatrixWidth>
        <MatrixHeight>209</MatrixHeight>
      </TileMatrix>
      <TileMatrix>
        <ows:Identifier>15</ows:Identifier>
        <ScaleDenominator>7000</ScaleDenominator>
        <TopLeftCorner>245149.0 5940137.0</TopLeftCorner>
        <TileWidth>512</TileWidth>
        <TileHeight>512</TileHeight>
        <MatrixWidth>243</MatrixWidth>
        <MatrixHeight>254</MatrixHeight>
      </TileMatrix>
      <TileMatrix>
        <ows:Identifier>16</ows:Identifier>
        <ScaleDenominator>5000</ScaleDenominator>
        <TopLeftCorner>245149.0 5940137.0</TopLeftCorner>
        <TileWidth>512</TileWidth>
        <TileHeight>512</TileHeight>
        <MatrixWidth>340</MatrixWidth>
        <MatrixHeight>356</MatrixHeight>
      </TileMatrix>
      <TileMatrix>
        <ows:Identifier>17</ows:Identifier>
        <ScaleDenominator>4265.4591676996</ScaleDenominator>
        <TopLeftCorner>245149.0 5940137.0</TopLeftCorner>
        <TileWidth>512</TileWidth>
        <TileHeight>512</TileHeight>
        <MatrixWidth>399</MatrixWidth>
        <MatrixHeight>417</MatrixHeight>
      </TileMatrix>
      <TileMatrix>
        <ows:Identifier>18</ows:Identifier>
        <ScaleDenominator>3000</ScaleDenominator>
        <TopLeftCorner>245149.0 5940137.0</TopLeftCorner>
        <TileWidth>512</TileWidth>
        <TileHeight>512</TileHeight>
        <MatrixWidth>567</MatrixWidth>
        <MatrixHeight>593</MatrixHeight>
      </TileMatrix>
      <TileMatrix>
        <ows:Identifier>19</ows:Identifier>
        <ScaleDenominator>2132.7295838498</ScaleDenominator>
        <TopLeftCorner>245149.0 5940137.0</TopLeftCorner>
        <TileWidth>512</TileWidth>
        <TileHeight>512</TileHeight>
        <MatrixWidth>797</MatrixWidth>
        <MatrixHeight>833</MatrixHeight>
      </TileMatrix>
      <TileMatrix>
        <ows:Identifier>20</ows:Identifier>
        <ScaleDenominator>1500</ScaleDenominator>
        <TopLeftCorner>245149.0 5940137.0</TopLeftCorner>
        <TileWidth>512</TileWidth>
        <TileHeight>512</TileHeight>
        <MatrixWidth>1133</MatrixWidth>
        <MatrixHeight>1185</MatrixHeight>
      </TileMatrix>
      <TileMatrix>
        <ows:Identifier>21</ows:Identifier>
        <ScaleDenominator>1000</ScaleDenominator>
        <TopLeftCorner>245149.0 5940137.0</TopLeftCorner>
        <TileWidth>512</TileWidth>
        <TileHeight>512</TileHeight>
        <MatrixWidth>1700</MatrixWidth>
        <MatrixHeight>1777</MatrixHeight>
      </TileMatrix>
      <TileMatrix>
        <ows:Identifier>22</ows:Identifier>
        <ScaleDenominator>500</ScaleDenominator>
        <TopLeftCorner>245149.0 5940137.0</TopLeftCorner>
        <TileWidth>512</TileWidth>
        <TileHeight>512</TileHeight>
        <MatrixWidth>3399</MatrixWidth>
        <MatrixHeight>3553</MatrixHeight>
      </TileMatrix>
    </TileMatrixSet>
  </Contents>
  <ServiceMetadataURL xlink:href="https://isk.geobasis-bb.de/mapproxy/dgm_wmts/wmts/1.0.0/WMTSCapabilities.xml"/>
</Capabilities>